BEGIN:VCALENDAR
VERSION:2.0
PRODID:-//Samt Sudoe - ECPv4.9.2//NONSGML v1.0//EN
CALSCALE:GREGORIAN
METHOD:PUBLISH
X-WR-CALNAME:Samt Sudoe
X-ORIGINAL-URL:https://www.samtsudoe.com
X-WR-CALDESC:Eventos para Samt Sudoe
BEGIN:VEVENT
DTSTART;TZID=UTC+0:20190604T090000
DTEND;TZID=UTC+0:20190606T183000
DTSTAMP:20260414T193247
CREATED:20181211T090128Z
LAST-MODIFIED:20181211T092603Z
UID:6104-1559638800-1559845800@www.samtsudoe.com
SUMMARY:Addit3d celebrará su cuarta edición con el foco puesto en los fabricantes de piezas y componentes
DESCRIPTION:• El certamen se celebra del 4 al 6 de junio de 2019 coincidiendo con otras 6 ferias de carácter industrial. \nBEC / Los suministradores de aplicaciones para la fabricación de piezas y componentes  estarán en el centro de la campaña de captación de expositores de ADDIT3D 2019\, Feria Internacional de Fabricación Aditiva y 3D que se celebrará del 4 al 6 de junio de 2019 en Bilbao Exhibition Centre. Con la experiencia y el recorrido de sus tres ediciones anteriores\, ADDIT3D se prepara para afrontar su cuarta edición dando un paso más en su apuesta por ampliar su oferta expositiva y crecer\, también\,  internacionalmente. \n﻿﻿﻿ \nADDIT3D es el único evento profesional del sector dirigido a la industria\, a la que quiere acercar una amplia muestra de soluciones de una tecnología que resulta imprescindible para la competitividad de los procesos productivos y para garantizar soluciones personalizadas a medida de las necesidades del cliente. En España la implantación de tecnología aditiva se encuentra en un estadio “medio”\, un apartado en el que destacan sectores como el médico-protésico\, el aeronáutico y el de automoción. \nEstand con la representación del proyecto SAMT Sudoe en la tercera edición de ADDIT 3D de 2018\, en Bilbao. \nEn 2018 fueron 137 firmas procedentes de 9 países las que mostraron las últimas novedades a visitantes profesionales de sectores muy diversos. Entre las empresas visitantes destacó la presencia de representantes de Airbus\, CAF\, Gestamp\, Mercedes Benz España\, Grupo Antolin o Seat. \nEl crecimiento registrado por ADDIT3D desde su lanzamiento en 2016 es un buen reflejo de la importancia que está adquiriendo la fabricación aditiva y 3D como proceso de fabricación avanzado. Estudios recientes revelan que su valor de mercado en 2022 será de 11 mil millones de dólares\, con un crecimiento estimado medio del 16% hasta llegar a ese año. \nGracias a su combinación de espacios\, ADDIT3D se ha convertido en un evento de referencia para conocer casos de éxito y buenas prácticas en aplicación de tecnologías\, en los Additive Talks\, y ver en directo esas mismas aplicaciones\, en el área expositiva. \nADDIT 3D congrega a empresas\, desarrolladores\, y centros tecnológicos\, en un marco profesional con proyección internacional. \nProveedores y usuarios compartirán con los profesionales asistentes su experiencia\, en un programa de conferencias muy amplio que estará organizado por ADDIMAT\, Asociación Española de Tecnologías de Fabricación Aditiva y 3D. \n“Sumando ferias\, creando industria” \nEs el claim de la plataforma + Industry\, que da nombre a la suma de los siete certámenes que convertirán a Bilbao Exhibition Centre en el mayor punto de encuentro para la industria los días 4 a 6 de junio de 2019. Así\, ADDIT3D coincidirá con SUBCONTRATACIÓN\, Feria Internacional de Procesos y Equipos para la Fabricación\, IT by FERROFORMA\, Feria Internacional de las Herramientas y Suministros para la Industria\, MAINTENANCE\, Feria Internacional de Mantenimiento Industrial\, PUMPS & VALVES\, Feria Internacional de Sistemas de Bombas\, Válvulas y Equipamientos para Procesos Industriales\, BeDIGITAL\, Soluciones y Herramientas 4.0 para la Industria\, y FITMAQ\, Feria Internacional de la Maquinaria de Ocasión y Usada. \nLa celebración de ADDIT3D de forma paralela a estos seis certámenes brindará a sus participantes un espacio industrial muy amplio\, donde contactar  directamente con otras empresas de gran interés como potenciales clientes de esta tecnología: pymes subcontratistas fabricantes de componentes y piezas con alto valor añadido\, fabricantes de herramientas\, cerrajería\, pequeña maquinaria y suministro industrial\, y mantenimiento industrial avanzado\, entre otras. \n
URL:https://www.samtsudoe.com/es/event/addit3d-celebrara-su-cuarta-edicion-con-el-foco-puesto-en-los-fabricantes-de-piezas-y-componentes/
LOCATION:Bilbao Exhibition Center\, Ronda de Azkue 1\, Ansio-Barakaldo\, Bilbao\, 48902\, España
ATTACH;FMTTYPE=image/jpeg:https://www.samtsudoe.com/wp-content/uploads/2018/12/Sin-título.jpg
ORGANIZER;CN="BEC":MAILTO:comunicacion@bec.eu
END:VEVENT
END:VCALENDAR