BEGIN:VCALENDAR
VERSION:2.0
PRODID:-//Samt Sudoe - ECPv4.9.2//NONSGML v1.0//EN
CALSCALE:GREGORIAN
METHOD:PUBLISH
X-WR-CALNAME:Samt Sudoe
X-ORIGINAL-URL:https://www.samtsudoe.com
X-WR-CALDESC:Eventos para Samt Sudoe
BEGIN:VEVENT
DTSTART;TZID=UTC+0:20190409T090000
DTEND;TZID=UTC+0:20190411T180000
DTSTAMP:20260416T015245
CREATED:20181210T195315Z
LAST-MODIFIED:20181210T195315Z
UID:6094-1554800400-1555005600@www.samtsudoe.com
SUMMARY:Advanced Factories 2019
DESCRIPTION:Advanced Factories presentará de nuevo todas las soluciones que ayudan a la industria manufacturera a mejorar su competitividad bajo el lema ‘Únete a la inteligencia industrial’ del 9 al 11 de abril de 2019. La organización ha señalado que se expondrá lo último en máquina-herramienta\, robótica o automatización industrial\, junto a las nuevas tecnologías cada vez más relevantes para el sector como la inteligencia artificial\, blockchain\, machine learning o el 3D printing\, pasando por todo tipo de software de producción y sistemas PLC. \n \nDigital Manufacturing \nEn el apartado de manufactura digital\, el certamen abordará: \n3D Printing: Diseño\, prototipado\, fabricación en masa y personalización de producto. \nMantenimiento Predictivo: Análisis vibraciones\, ultrasonidos\, termografía\, análisis de lubricante\, tribología\, análisis de máquinas alternativas\, supervisión de grandes máquinas eléctricas\, análisis de motores eléctricos de inducción (ESA&MCA). \nSoftware Industrial: MES\, PLC\, ERP\, analítica de datos… \nMetrología y Control de Calidad: Tecnología de medición\, sistemas ópticos\, integración de metrología en línea de producción\, fabricación cero-defectos. \nNanotecnología: Investigación\, aplicaciones y desarrollo. \nEficiencia Energética: Sistemas expertos de gestión energética\, ciclo energético industrial\, almacenaje energético industrial\, energías renovables\, energía fotovoltáica\, energía eólica\, recuperación energética industrial\, geotermia. \n
URL:https://www.samtsudoe.com/es/event/advanced-factories-2019/
LOCATION:CCIB – Centre de Convencions Internacional de Barcelona\, Plaza de Willy Brandt 11-14\, Barcelona\, Barcelona\, 08019\, España
ATTACH;FMTTYPE=image/jpeg:https://www.samtsudoe.com/wp-content/uploads/2018/12/AF.jpg
ORGANIZER;CN="Nebext":MAILTO:info@nebext.com
END:VEVENT
END:VCALENDAR