BEGIN:VCALENDAR
VERSION:2.0
PRODID:-//Samt Sudoe - ECPv4.9.2//NONSGML v1.0//EN
CALSCALE:GREGORIAN
METHOD:PUBLISH
X-WR-CALNAME:Samt Sudoe
X-ORIGINAL-URL:https://www.samtsudoe.com
X-WR-CALDESC:Eventos para Samt Sudoe
BEGIN:VEVENT
DTSTART;TZID=UTC+0:20190507T090000
DTEND;TZID=UTC+0:20190509T180000
DTSTAMP:20260420T185929
CREATED:20190331T221535Z
LAST-MODIFIED:20190331T221535Z
UID:6400-1557219600-1557424800@www.samtsudoe.com
SUMMARY:CHEMPLAST EXPO EDICIÓN 2019
DESCRIPTION: \nChemPlastExpo es la feria industrial que reúne en Madrid las más innovadoras soluciones en materiales\, tecnologías\, procesos y maquinaria para la industria química y del plástico. Con esta feria los profesionales del sector disponen de 3 días en los que el visitante que busca conocimiento\, innovación y competencias para crecer profesionalmente se acerca al expositor capaz de ofrecerle exactamente esas soluciones. \nJunto al espacio expositivo de ChemPlast se ofrecerá el Congreso de Química Aplicada e Industria 4.0\, y también el Congreso Europeo de Ingeniería del Plástico\, 2 eventos en los que encontraremos como uno de los temas principales la implantación de la denominada industria 4.0 en ambos sectores. \n
URL:https://www.samtsudoe.com/es/event/chemplast-expo-edicion-2019/
LOCATION:IFEMA\, Av. Partenón\, 5\, Madrid\, Madrid\, 28042\, España
END:VEVENT
END:VCALENDAR