BEGIN:VCALENDAR
VERSION:2.0
PRODID:-//Samt Sudoe - ECPv4.9.2//NONSGML v1.0//EN
CALSCALE:GREGORIAN
METHOD:PUBLISH
X-WR-CALNAME:Samt Sudoe
X-ORIGINAL-URL:https://www.samtsudoe.com
X-WR-CALDESC:Eventos para Samt Sudoe
BEGIN:VEVENT
DTSTART;VALUE=DATE:20170601
DTEND;VALUE=DATE:20170602
DTSTAMP:20260423T172423
CREATED:20170405T153323Z
LAST-MODIFIED:20180606T100341Z
UID:4342-1496275200-1496361599@www.samtsudoe.com
SUMMARY:ANTERIOR TALLER TÉCNICO EN BURDEOS
DESCRIPTION:TALLER TÉCNICO: FABRICACIÓN DE ADITIVOS Y MATERIALES AVANZADOS PARA INDUSTRIAS DE PROCESADORES DE MOLDE Y PLÁSTICO. \n  \n
URL:https://www.samtsudoe.com/es/event/taller-tecnico-2/
LOCATION:BORDEAUX\, Francia
ATTACH;FMTTYPE=image/png:https://www.samtsudoe.com/wp-content/uploads/2017/04/ICMCB.png
ORGANIZER;CN="ICMCB":MAILTO:stephane.gorsse@icmcb.cnrs.fr
END:VEVENT
END:VCALENDAR