BEGIN:VCALENDAR
VERSION:2.0
PRODID:-//Samt Sudoe - ECPv4.9.2//NONSGML v1.0//EN
CALSCALE:GREGORIAN
METHOD:PUBLISH
X-WR-CALNAME:Samt Sudoe
X-ORIGINAL-URL:https://www.samtsudoe.com
X-WR-CALDESC:Eventos para Samt Sudoe
BEGIN:VEVENT
DTSTART;VALUE=DATE:20170518
DTEND;VALUE=DATE:20170519
DTSTAMP:20260423T173228
CREATED:20170405T153500Z
LAST-MODIFIED:20170405T153500Z
UID:4345-1495065600-1495151999@www.samtsudoe.com
SUMMARY:TALLER TÉCNICO
DESCRIPTION:TALLER TÉCNICO: FABRICACIÓN DE ADITIVOS Y MATERIALES AVANZADOS PARA INDUSTRIAS DE PROCESADORES DE MOLDE Y PLÁSTICO \n
URL:https://www.samtsudoe.com/es/event/taller-tecnico-3/
LOCATION:MARINHA GRANDE\, Portugal
ATTACH;FMTTYPE=image/jpeg:https://www.samtsudoe.com/wp-content/uploads/2017/04/CENTIMFE.jpg
ORGANIZER;CN="CENTIMFE":MAILTO:rui.soares@centimfe.com
END:VEVENT
END:VCALENDAR