BEGIN:VCALENDAR
VERSION:2.0
PRODID:-//Samt Sudoe - ECPv4.9.2//NONSGML v1.0//EN
CALSCALE:GREGORIAN
METHOD:PUBLISH
X-WR-CALNAME:Samt Sudoe
X-ORIGINAL-URL:https://www.samtsudoe.com
X-WR-CALDESC:Eventos para Samt Sudoe
BEGIN:VEVENT
DTSTART;TZID=UTC+0:20180925T093000
DTEND;TZID=UTC+0:20180927T170000
DTSTAMP:20260416T140643
CREATED:20180825T171534Z
LAST-MODIFIED:20180825T171534Z
UID:5640-1537867800-1538067600@www.samtsudoe.com
SUMMARY:TCT SHOW 2018\, del 25 al 27 DE SEPTIEMBRE en  BIRMINGHAM
DESCRIPTION:TCT Show es uno de los eventos más relevantes orientados a la fabricación aditiva\, la impresión 3D\, el diseño y la tecnología de ingeniería. TCT Show atrae anualmente a numerosas empresas de la industria\, más de 300 expositores y más de 10.000 visitantes de más de 40 países. \n
URL:https://www.samtsudoe.com/es/event/tct-show-2018-del-25-al-27-de-septiembre-en-%e2%80%a8birmingham/
LOCATION:NEC\, BIRMINGHAM\, REINO UNIDO\, North Ave\, Marston Green\, Birmingham\, B40 1NT\, Reino Unido
ORGANIZER;CN="NEC%2C%20National%20Exhibition%20Centre":MAILTO:carol.hardy@rapidnews.com
END:VEVENT
END:VCALENDAR